BEGIN:VCALENDAR
VERSION:2.0
PRODID:-//Alcoholics Anonymous District 13E - ECPv6.15.20//NONSGML v1.0//EN
CALSCALE:GREGORIAN
METHOD:PUBLISH
X-ORIGINAL-URL:https://district13e.org
X-WR-CALDESC:Events for Alcoholics Anonymous District 13E
REFRESH-INTERVAL;VALUE=DURATION:PT1H
X-Robots-Tag:noindex
X-PUBLISHED-TTL:PT1H
BEGIN:VTIMEZONE
TZID:America/Chicago
BEGIN:DAYLIGHT
TZOFFSETFROM:-0600
TZOFFSETTO:-0500
TZNAME:CDT
DTSTART:20240310T080000
END:DAYLIGHT
BEGIN:STANDARD
TZOFFSETFROM:-0500
TZOFFSETTO:-0600
TZNAME:CST
DTSTART:20241103T070000
END:STANDARD
BEGIN:DAYLIGHT
TZOFFSETFROM:-0600
TZOFFSETTO:-0500
TZNAME:CDT
DTSTART:20250309T080000
END:DAYLIGHT
BEGIN:STANDARD
TZOFFSETFROM:-0500
TZOFFSETTO:-0600
TZNAME:CST
DTSTART:20251102T070000
END:STANDARD
BEGIN:DAYLIGHT
TZOFFSETFROM:-0600
TZOFFSETTO:-0500
TZNAME:CDT
DTSTART:20260308T080000
END:DAYLIGHT
BEGIN:STANDARD
TZOFFSETFROM:-0500
TZOFFSETTO:-0600
TZNAME:CST
DTSTART:20261101T070000
END:STANDARD
END:VTIMEZONE
BEGIN:VEVENT
DTSTART;TZID=America/Chicago:20251112T180000
DTEND;TZID=America/Chicago:20251112T180000
DTSTAMP:20260423T185859
CREATED:20251014T005412Z
LAST-MODIFIED:20251014T013758Z
UID:15039-1762970400-1762970400@district13e.org
SUMMARY:District 13e Elections
DESCRIPTION:
URL:https://district13e.org/event/district-13e-elections/
LOCATION:First Lutheran Church\, 301 W. Farrel Road\, Lafayette\, 70508
ATTACH;FMTTYPE=image/png:https://district13e.org/wp-content/uploads/2025/10/DistrictElections.png
END:VEVENT
END:VCALENDAR