BEGIN:VCALENDAR
VERSION:2.0
PRODID:-//Alcoholics Anonymous District 13E - ECPv6.15.20//NONSGML v1.0//EN
CALSCALE:GREGORIAN
METHOD:PUBLISH
X-ORIGINAL-URL:https://district13e.org
X-WR-CALDESC:Events for Alcoholics Anonymous District 13E
REFRESH-INTERVAL;VALUE=DURATION:PT1H
X-Robots-Tag:noindex
X-PUBLISHED-TTL:PT1H
BEGIN:VTIMEZONE
TZID:America/Chicago
BEGIN:DAYLIGHT
TZOFFSETFROM:-0600
TZOFFSETTO:-0500
TZNAME:CDT
DTSTART:20240310T080000
END:DAYLIGHT
BEGIN:STANDARD
TZOFFSETFROM:-0500
TZOFFSETTO:-0600
TZNAME:CST
DTSTART:20241103T070000
END:STANDARD
BEGIN:DAYLIGHT
TZOFFSETFROM:-0600
TZOFFSETTO:-0500
TZNAME:CDT
DTSTART:20250309T080000
END:DAYLIGHT
BEGIN:STANDARD
TZOFFSETFROM:-0500
TZOFFSETTO:-0600
TZNAME:CST
DTSTART:20251102T070000
END:STANDARD
BEGIN:DAYLIGHT
TZOFFSETFROM:-0600
TZOFFSETTO:-0500
TZNAME:CDT
DTSTART:20260308T080000
END:DAYLIGHT
BEGIN:STANDARD
TZOFFSETFROM:-0500
TZOFFSETTO:-0600
TZNAME:CST
DTSTART:20261101T070000
END:STANDARD
END:VTIMEZONE
BEGIN:VEVENT
DTSTART;TZID=America/Chicago:20250920T180000
DTEND;TZID=America/Chicago:20250920T210000
DTSTAMP:20260423T213157
CREATED:20250918T100333Z
LAST-MODIFIED:20250918T101552Z
UID:15022-1758391200-1758402000@district13e.org
SUMMARY:An Old Timers Celebration Dinner
DESCRIPTION:District 13E Host An Old Timer Celebration Dinner
URL:https://district13e.org/event/an-old-timers-celebration-dinner/
LOCATION:St. Barnabas Church\, 400 Camellia Blvd\, Lafayette\, LA\, 70503\, United States
ATTACH;FMTTYPE=image/png:https://district13e.org/wp-content/uploads/2025/09/old-Timers.png
END:VEVENT
BEGIN:VEVENT
DTSTART;TZID=America/Chicago:20250926T170000
DTEND;TZID=America/Chicago:20250927T220000
DTSTAMP:20260423T213157
CREATED:20250918T101130Z
LAST-MODIFIED:20250918T101704Z
UID:15030-1758906000-1759010400@district13e.org
SUMMARY:38th Cajun Country Conference38th Cajun Country Conference
DESCRIPTION:
URL:https://district13e.org/event/38th-cajun-country-conference38th-cajun-country-conference/
LOCATION:Home 2 Suites by Hilton\, 1909 Kaliste Saloom Rd\, Lafayette\, LA\, 70508\, United States
ATTACH;FMTTYPE=image/webp:https://district13e.org/wp-content/uploads/2025/09/ccc-flyer2025.webp
END:VEVENT
END:VCALENDAR