BEGIN:VCALENDAR
VERSION:2.0
PRODID:-//Alcoholics Anonymous District 13E - ECPv6.15.20//NONSGML v1.0//EN
CALSCALE:GREGORIAN
METHOD:PUBLISH
X-ORIGINAL-URL:https://district13e.org
X-WR-CALDESC:Events for Alcoholics Anonymous District 13E
REFRESH-INTERVAL;VALUE=DURATION:PT1H
X-Robots-Tag:noindex
X-PUBLISHED-TTL:PT1H
BEGIN:VTIMEZONE
TZID:America/Chicago
BEGIN:DAYLIGHT
TZOFFSETFROM:-0600
TZOFFSETTO:-0500
TZNAME:CDT
DTSTART:20230312T080000
END:DAYLIGHT
BEGIN:STANDARD
TZOFFSETFROM:-0500
TZOFFSETTO:-0600
TZNAME:CST
DTSTART:20231105T070000
END:STANDARD
BEGIN:DAYLIGHT
TZOFFSETFROM:-0600
TZOFFSETTO:-0500
TZNAME:CDT
DTSTART:20240310T080000
END:DAYLIGHT
BEGIN:STANDARD
TZOFFSETFROM:-0500
TZOFFSETTO:-0600
TZNAME:CST
DTSTART:20241103T070000
END:STANDARD
BEGIN:DAYLIGHT
TZOFFSETFROM:-0600
TZOFFSETTO:-0500
TZNAME:CDT
DTSTART:20250309T080000
END:DAYLIGHT
BEGIN:STANDARD
TZOFFSETFROM:-0500
TZOFFSETTO:-0600
TZNAME:CST
DTSTART:20251102T070000
END:STANDARD
END:VTIMEZONE
BEGIN:VEVENT
DTSTART;TZID=America/Chicago:20241206T080000
DTEND;TZID=America/Chicago:20241208T220000
DTSTAMP:20260424T115311
CREATED:20240404T221255Z
LAST-MODIFIED:20240829T164348Z
UID:14855-1733472000-1733695200@district13e.org
SUMMARY:SPEAKER MEETING
DESCRIPTION:On ZOOMEVERY SATURDAY @ 5pm PST\, 7pm CST\, 8pm EST\n\n\n\n\nMEETING ID: 769 2518 9247PASSWORD: 12steps
URL:https://district13e.org/event/aa-southeast-regional-forum/
LOCATION:AA Southeast Regional Forum\, Biloxi\, Mississippi
ATTACH;FMTTYPE=image/png:https://district13e.org/wp-content/uploads/2024/03/Gulf-Coast-2024-Anniversary.png
END:VEVENT
BEGIN:VEVENT
DTSTART;TZID=America/Chicago:20241208T080000
DTEND;TZID=America/Chicago:20241208T170000
DTSTAMP:20260424T115311
CREATED:20240822T130413Z
LAST-MODIFIED:20240822T131521Z
UID:14921-1733644800-1733677200@district13e.org
SUMMARY:Southeast Regional Forum
DESCRIPTION:Southeast Regional Forum \n\n\n\nNovember 14\, 2024 Room Reservation Deadline \n\n\n\nFor more information or questions please contact Regional Forums’ Staff Coordinator\, at regionalforums@aa.org or call (212) 870-3120
URL:https://district13e.org/event/southeast-regional-forum/
LOCATION:Golden Nugget Biloxi\, 151 Beach Boulevard\, Biloxi\, Mississippi\, 39530
END:VEVENT
BEGIN:VEVENT
DTSTART;TZID=America/Chicago:20241211T180000
DTEND;TZID=America/Chicago:20241211T190000
DTSTAMP:20260424T115311
CREATED:20241208T022729Z
LAST-MODIFIED:20241208T022730Z
UID:14952-1733940000-1733943600@district13e.org
SUMMARY:District 13-E Business Meeting
DESCRIPTION:First Lutheran Church \n\n\n\n301 W. Farrel RoadLafayette\, Louisiana 70508 \n\n\n\nMeeting ID: 294 772 7360Password: District13
URL:https://district13e.org/event/district-13-e-business-meeting/
END:VEVENT
BEGIN:VEVENT
DTSTART;TZID=America/Chicago:20241211T190000
DTEND;TZID=America/Chicago:20241211T193000
DTSTAMP:20260424T115311
CREATED:20240317T182145Z
LAST-MODIFIED:20241208T021944Z
UID:14342-1733943600-1733945400@district13e.org
SUMMARY:ASCC Meeting
DESCRIPTION:The ASCC meets to update and then publish an Acadiana-area listing of Treatment\, Corrections\, and PI service opportunities [the TCPI list] each quarter.  The list is emailed to ASCC members/attendees\, the Central Office\, the Plug ‘n Jug\, and other interested parties.  It includes a listing of facilities\, their directors or contacts\, and all known meeting times and AA servers that correspond to them.  For PI\, the list is all served facilities and who is serving them.  The TCPI list is intended to show open opportunities to carry the AA message and encourage AAs to find service opportunities. \n\n\n\n\n\n\n\nclick here for ZOOM!\n\n\n\n\n\nMeeting ID:  294 772 7360Password:  District13
URL:https://district13e.org/event/ascc-meeting/
LOCATION:First Lutheran Church\, 301 W. Farrel Road\, Lafayette\, Louisiana\, 70508
END:VEVENT
END:VCALENDAR