BEGIN:VCALENDAR
VERSION:2.0
PRODID:-//Alcoholics Anonymous District 13E - ECPv6.15.20//NONSGML v1.0//EN
CALSCALE:GREGORIAN
METHOD:PUBLISH
X-WR-CALNAME:Alcoholics Anonymous District 13E
X-ORIGINAL-URL:https://district13e.org
X-WR-CALDESC:Events for Alcoholics Anonymous District 13E
REFRESH-INTERVAL;VALUE=DURATION:PT1H
X-Robots-Tag:noindex
X-PUBLISHED-TTL:PT1H
BEGIN:VTIMEZONE
TZID:America/Chicago
BEGIN:DAYLIGHT
TZOFFSETFROM:-0600
TZOFFSETTO:-0500
TZNAME:CDT
DTSTART:20220313T080000
END:DAYLIGHT
BEGIN:STANDARD
TZOFFSETFROM:-0500
TZOFFSETTO:-0600
TZNAME:CST
DTSTART:20221106T070000
END:STANDARD
BEGIN:DAYLIGHT
TZOFFSETFROM:-0600
TZOFFSETTO:-0500
TZNAME:CDT
DTSTART:20230312T080000
END:DAYLIGHT
BEGIN:STANDARD
TZOFFSETFROM:-0500
TZOFFSETTO:-0600
TZNAME:CST
DTSTART:20231105T070000
END:STANDARD
BEGIN:DAYLIGHT
TZOFFSETFROM:-0600
TZOFFSETTO:-0500
TZNAME:CDT
DTSTART:20240310T080000
END:DAYLIGHT
BEGIN:STANDARD
TZOFFSETFROM:-0500
TZOFFSETTO:-0600
TZNAME:CST
DTSTART:20241103T070000
END:STANDARD
BEGIN:DAYLIGHT
TZOFFSETFROM:-0600
TZOFFSETTO:-0500
TZNAME:CDT
DTSTART:20250309T080000
END:DAYLIGHT
BEGIN:STANDARD
TZOFFSETFROM:-0500
TZOFFSETTO:-0600
TZNAME:CST
DTSTART:20251102T070000
END:STANDARD
END:VTIMEZONE
BEGIN:VEVENT
DTSTART;TZID=America/Chicago:20240914T140000
DTEND;TZID=America/Chicago:20240914T180000
DTSTAMP:20260423T190630
CREATED:20240822T123205Z
LAST-MODIFIED:20240822T123419Z
UID:14911-1726322400-1726336800@district13e.org
SUMMARY:The Ladies' Night Group Clothing Swap
DESCRIPTION:Clothing swap and donation for women in recovery
URL:https://district13e.org/event/the-ladies-night-clothing-swap/
LOCATION:Turning Point\, 210 8th Street\, Lafayette\, Louisiana\, 70501
END:VEVENT
BEGIN:VEVENT
DTSTART;TZID=America/Chicago:20240907T140000
DTEND;TZID=America/Chicago:20240907T160000
DTSTAMP:20260423T190630
CREATED:20240822T120609Z
LAST-MODIFIED:20240829T163556Z
UID:14897-1725717600-1725724800@district13e.org
SUMMARY:Sober and worked the steps now what?
DESCRIPTION:
URL:https://district13e.org/event/sober-and-worked-the-steps-now-what/
LOCATION:First Lutheran Church\, 301 W. Farrel Road\, Lafayette\, 70508
ATTACH;FMTTYPE=image/jpeg:https://district13e.org/wp-content/uploads/2024/08/IMG_2234.jpg
END:VEVENT
BEGIN:VEVENT
DTSTART;TZID=America/Chicago:20240225T130000
DTEND;TZID=America/Chicago:20240225T150000
DTSTAMP:20260423T190630
CREATED:20230206T014118Z
LAST-MODIFIED:20240203T025004Z
UID:5043-1708866000-1708873200@district13e.org
SUMMARY:Plain Language Big Book - Zoom Only Session
DESCRIPTION:Presented by the South East Regional Delegates \n\n\n\n\n\n\nSpecial Guest:The Chair of the TABB Subcommittee(Tools for Accessing the Big Book)\n\n\n\nZoom credentials:Meeting ID:   867 2200  6265Password:  924686 \n\n\n\n\n\n\n\n\n\n\nclick here for flyer!
URL:https://district13e.org/event/district-13e-business-meeting/
LOCATION:Covenant United Methodist Church\, 300 E Martial Ave\, Lafayettte\, Louisiana\, United States
ATTACH;FMTTYPE=image/png:https://district13e.org/wp-content/uploads/2023/02/Plain-Language-Big-Book-Information-Session.png
END:VEVENT
BEGIN:VEVENT
DTSTART;TZID=America/Chicago:20240225T113000
DTEND;TZID=America/Chicago:20240225T153000
DTSTAMP:20260423T190630
CREATED:20240203T023530Z
LAST-MODIFIED:20240221T015204Z
UID:13342-1708860600-1708875000@district13e.org
SUMMARY:District 13E PLBB Zoom Watch Party
DESCRIPTION:Join District 13E for a mass viewing of the Plain Language Big Book Information Session. Come early for lunch and discuss the upcoming book to help us formulate questions and/or concerns to present to the host(s). There are only 1000 slots available and is not restricted to only the Southeast Region. We are attempting to get as many attendees into a single slot in an effort to allow more participants to join in across the country.Please register below for a head count. Everybody should eat!Come join us for food and fellowship! Hope to see you there! \n\n\n\n\n\n\n\n\n\n\n\nclick here for FLYER!\n\n\n\n\n\nclick here for FREE REGISTRATION!
URL:https://district13e.org/event/district-13e-plbb-zoom-view-party/
LOCATION:Day One Clubhouse (The DOC)\, 924 Kaliste Saloom Rd.\, Lafayette\, Louisiana\, 70508\, United States
ATTACH;FMTTYPE=image/png:https://district13e.org/wp-content/uploads/2024/02/District-13E-PLBB-Watch-Party.png
END:VEVENT
BEGIN:VEVENT
DTSTART;TZID=America/Chicago:20240218T173000
DTEND;TZID=America/Chicago:20240218T183000
DTSTAMP:20260423T190630
CREATED:20240216T020806Z
LAST-MODIFIED:20240216T072209Z
UID:14081-1708277400-1708281000@district13e.org
SUMMARY:Zoom with Area 27 Delegate
DESCRIPTION:District 13E has invited Area 27 Delegate Molly E to share briefly about the development and current status of the PLBB (Plain Language Big Book) in advance of the Information Session taking place on February 25 (CLICK FOR INFO!). She will also be elaborating on the questions distributed last month from the Trustees’ Literature Committee about “How Should We Treat AA Founders’ Writings” and its significance for the upcoming PCA (Pre-Conference Assembly). \n\n\n\n\n\n\n\nclick here for ZOOM!\n\n\n\n\n\nMeeting ID:  828 6914 4187Password:  District13Please review the material in the links below and submit questions for Molly early to alt.dcm@district13e.org BEFORE ZOOM MEETING if possible. \n\n\n\n\n\nPLBB PRESENTATION SLIDES\n\n\n\n\n\nFOUNDER’S WRITINGS QUESTIONS
URL:https://district13e.org/event/zoom-with-area-27-delegate/
END:VEVENT
BEGIN:VEVENT
DTSTART;TZID=America/Chicago:20230909T140000
DTEND;TZID=America/Chicago:20230909T170000
DTSTAMP:20260423T190630
CREATED:20230801T225951Z
LAST-MODIFIED:20230803T143349Z
UID:11320-1694268000-1694278800@district13e.org
SUMMARY:Workshop - Dating\, Relationships & Safety in AA
DESCRIPTION:Let us know you’re coming! \n\n\n\n\nSIGN OUR GUEST LIST!\n\n\n\nCLICK HERE FOR FLYER!
URL:https://district13e.org/event/workshop-dating-relationships-safety-in-aa/
LOCATION:Day One Clubhouse (The DOC)\, 924 Kaliste Saloom Rd.\, Lafayette\, Louisiana\, 70508\, United States
ATTACH;FMTTYPE=image/png:https://district13e.org/wp-content/uploads/2023/08/District-13E-Workshop-DRS-2023a.png
ORGANIZER;CN="District 13E":MAILTO:webservant@district13e.org
END:VEVENT
BEGIN:VEVENT
DTSTART;TZID=America/Chicago:20230326T140000
DTEND;TZID=America/Chicago:20230326T160000
DTSTAMP:20260423T190630
CREATED:20230307T025807Z
LAST-MODIFIED:20230307T030042Z
UID:7511-1679839200-1679846400@district13e.org
SUMMARY:GSR Orientation - District 12
DESCRIPTION:click here for flyer!
URL:https://district13e.org/event/gsr-orientation-district-12/
LOCATION:American Legion Hall – Post 16\, 2031 Ronald Reagan Hwy (Hwy 190)\, Covington\, Louisiana\, 70433\, United States
ATTACH;FMTTYPE=image/png:https://district13e.org/wp-content/uploads/2023/03/GSR-Orientation-District-12-2023.png
END:VEVENT
BEGIN:VEVENT
DTSTART;TZID=America/Chicago:20230325T163000
DTEND;TZID=America/Chicago:20230325T203000
DTSTAMP:20260423T190630
CREATED:20230206T015116Z
LAST-MODIFIED:20230304T191544Z
UID:5052-1679761800-1679776200@district13e.org
SUMMARY:District & Dinner
DESCRIPTION:click here for flyer!
URL:https://district13e.org/event/district-dinner/
LOCATION:St. Barnabas Church\, 400 Camellia Blvd\, Lafayette\, LA\, 70503\, United States
ATTACH;FMTTYPE=image/png:https://district13e.org/wp-content/uploads/2023/03/District-Dinner-2023e.png
END:VEVENT
END:VCALENDAR