BEGIN:VCALENDAR
VERSION:2.0
PRODID:-//Alcoholics Anonymous District 13E - ECPv6.15.20//NONSGML v1.0//EN
CALSCALE:GREGORIAN
METHOD:PUBLISH
X-ORIGINAL-URL:https://district13e.org
X-WR-CALDESC:Events for Alcoholics Anonymous District 13E
REFRESH-INTERVAL;VALUE=DURATION:PT1H
X-Robots-Tag:noindex
X-PUBLISHED-TTL:PT1H
BEGIN:VTIMEZONE
TZID:America/Chicago
BEGIN:DAYLIGHT
TZOFFSETFROM:-0600
TZOFFSETTO:-0500
TZNAME:CDT
DTSTART:20250309T080000
END:DAYLIGHT
BEGIN:STANDARD
TZOFFSETFROM:-0500
TZOFFSETTO:-0600
TZNAME:CST
DTSTART:20251102T070000
END:STANDARD
BEGIN:DAYLIGHT
TZOFFSETFROM:-0600
TZOFFSETTO:-0500
TZNAME:CDT
DTSTART:20260308T080000
END:DAYLIGHT
BEGIN:STANDARD
TZOFFSETFROM:-0500
TZOFFSETTO:-0600
TZNAME:CST
DTSTART:20261101T070000
END:STANDARD
BEGIN:DAYLIGHT
TZOFFSETFROM:-0600
TZOFFSETTO:-0500
TZNAME:CDT
DTSTART:20270314T080000
END:DAYLIGHT
BEGIN:STANDARD
TZOFFSETFROM:-0500
TZOFFSETTO:-0600
TZNAME:CST
DTSTART:20271107T070000
END:STANDARD
END:VTIMEZONE
BEGIN:VEVENT
DTSTART;TZID=America/Chicago:20260417T120000
DTEND;TZID=America/Chicago:20260419T120000
DTSTAMP:20260423T125350
CREATED:20260322T202339Z
LAST-MODIFIED:20260322T203628Z
UID:15109-1776427200-1776600000@district13e.org
SUMMARY:fellowship of the spirit south
DESCRIPTION:
URL:https://district13e.org/event/fellowship-of-the-spirit-south/
LOCATION:Home 2 Suites by Hilton\, 1909 Kaliste Saloom Rd\, Lafayette\, LA\, 70508\, United States
ATTACH;FMTTYPE=image/png:https://district13e.org/wp-content/uploads/2026/03/fot-2026-flyer.png
END:VEVENT
END:VCALENDAR